BEGIN:VCALENDAR
VERSION:2.0
PRODID:-//SBURJ - ECPv6.15.17.1//NONSGML v1.0//EN
CALSCALE:GREGORIAN
METHOD:PUBLISH
X-ORIGINAL-URL:https://sburj.com.br
X-WR-CALDESC:Eventos para SBURJ
REFRESH-INTERVAL;VALUE=DURATION:PT1H
X-Robots-Tag:noindex
X-PUBLISHED-TTL:PT1H
BEGIN:VTIMEZONE
TZID:America/Sao_Paulo
BEGIN:STANDARD
TZOFFSETFROM:-0300
TZOFFSETTO:-0300
TZNAME:-03
DTSTART:20240101T000000
END:STANDARD
END:VTIMEZONE
BEGIN:VEVENT
DTSTART;TZID=America/Sao_Paulo:20251011T080000
DTEND;TZID=America/Sao_Paulo:20251011T170000
DTSTAMP:20260420T075827
CREATED:20250526T215736Z
LAST-MODIFIED:20250526T215736Z
UID:2229-1760169600-1760202000@sburj.com.br
SUMMARY:2ª Jornada de Urologia de Campos
DESCRIPTION:Médicos\, Residentes/Pós-graduando e Estudantes de medicina faça sua inscrição para a Jornada de Urologia de Campos pelo link a seguir: https://sburj.com.br/2a-jornada-de-urologia-de-campos-dos-goytacazes/
URL:https://sburj.com.br/evento/2a-jornada-de-urologia-de-campos/
ATTACH;FMTTYPE=image/jpeg:https://sburj.com.br/wp-content/uploads/2025/05/Imagem-do-WhatsApp-de-2025-05-14-as-16.18.56_8a2a26b0.jpg
ORGANIZER;CN="Sociedade Brasileira de Urologia do Estado do Rio de Janeiro":MAILTO:contato@sburj.com.br
END:VEVENT
BEGIN:VEVENT
DTSTART;TZID=America/Sao_Paulo:20250816T080000
DTEND;TZID=America/Sao_Paulo:20250816T170000
DTSTAMP:20260420T075827
CREATED:20250526T215546Z
LAST-MODIFIED:20250526T215925Z
UID:2227-1755331200-1755363600@sburj.com.br
SUMMARY:2ª Jornada de Urologia de Penedo
DESCRIPTION:Médicos\, Residentes/Pós-graduando e Estudantes de medicina faça sua inscrição para a Jornada de Urologia de Penedo pelo link a seguir: https://sburj.com.br/2a-jornada-de-urologia-de-penedo/
URL:https://sburj.com.br/evento/2a-jornada-de-urologia-de-penedo/
ATTACH;FMTTYPE=image/jpeg:https://sburj.com.br/wp-content/uploads/2025/05/penedo.jpg
ORGANIZER;CN="Sociedade Brasileira de Urologia do Estado do Rio de Janeiro":MAILTO:contato@sburj.com.br
END:VEVENT
BEGIN:VEVENT
DTSTART;TZID=America/Sao_Paulo:20250614T080000
DTEND;TZID=America/Sao_Paulo:20250614T170000
DTSTAMP:20260420T075827
CREATED:20250526T214952Z
LAST-MODIFIED:20250610T151645Z
UID:2221-1749888000-1749920400@sburj.com.br
SUMMARY:2ª Jornada de Urologia Niterói
DESCRIPTION:Médicos\, Residentes/Pós-graduando e Estudantes de medicina faça sua inscrição para a Jornada de Urologia de Niteroi pelo link a seguir: https://sburj.com.br/jornada-de-urologia-de-niteroi/
URL:https://sburj.com.br/evento/2a-jornada-de-urologia-niteroi/
LOCATION:UFF – Universidade Federal Fluminense\, R. Des. Athayde Parreiras\, 100\, Niterói\, RJ\, 24070-090\, Brazil
ATTACH;FMTTYPE=image/jpeg:https://sburj.com.br/wp-content/uploads/2025/05/Imagem-do-WhatsApp-de-2025-06-10-as-11.57.36_358b27b7.jpg
ORGANIZER;CN="Sociedade Brasileira de Urologia do Estado do Rio de Janeiro":MAILTO:contato@sburj.com.br
END:VEVENT
BEGIN:VEVENT
DTSTART;TZID=America/Sao_Paulo:20250612T080000
DTEND;TZID=America/Sao_Paulo:20250613T180000
DTSTAMP:20260420T075827
CREATED:20250526T213713Z
LAST-MODIFIED:20250526T214414Z
UID:2212-1749715200-1749837600@sburj.com.br
SUMMARY:Uroonco Rio 2025
DESCRIPTION:Vai ficar de fora? Faça sua inscrição no Uroonco Rio 2025 que será realizado nos dias 12 e 13 de junho de 2025. Clique aqui para fazer sua inscrição: https://gupe.com.br/event/urooncorio2025
URL:https://sburj.com.br/evento/uroonco-rio-2025/
LOCATION:Hotel Fairmont\, Avenida Atlântica\, 4240\, Copacabana\, Rio de Janeiro\, RJ\, 22070-002\, Brazil
ATTACH;FMTTYPE=image/png:https://sburj.com.br/wp-content/uploads/2025/03/banner-uroonco-rio-2025Prancheta-1.png
ORGANIZER;CN="Sociedade Brasileira de Urologia do Estado do Rio de Janeiro":MAILTO:contato@sburj.com.br
END:VEVENT
END:VCALENDAR